BEGIN:VCALENDAR
VERSION:2.0
PRODID:-//St Mary&#039;s Ashwell - ECPv6.15.20//NONSGML v1.0//EN
CALSCALE:GREGORIAN
METHOD:PUBLISH
X-ORIGINAL-URL:https://stmarysashwell.org.uk
X-WR-CALDESC:Events for St Mary&#039;s Ashwell
REFRESH-INTERVAL;VALUE=DURATION:PT1H
X-Robots-Tag:noindex
X-PUBLISHED-TTL:PT1H
BEGIN:VTIMEZONE
TZID:Europe/London
BEGIN:DAYLIGHT
TZOFFSETFROM:+0000
TZOFFSETTO:+0100
TZNAME:BST
DTSTART:20200329T010000
END:DAYLIGHT
BEGIN:STANDARD
TZOFFSETFROM:+0100
TZOFFSETTO:+0000
TZNAME:GMT
DTSTART:20201025T010000
END:STANDARD
BEGIN:DAYLIGHT
TZOFFSETFROM:+0000
TZOFFSETTO:+0100
TZNAME:BST
DTSTART:20210328T010000
END:DAYLIGHT
BEGIN:STANDARD
TZOFFSETFROM:+0100
TZOFFSETTO:+0000
TZNAME:GMT
DTSTART:20211031T010000
END:STANDARD
BEGIN:DAYLIGHT
TZOFFSETFROM:+0000
TZOFFSETTO:+0100
TZNAME:BST
DTSTART:20220327T010000
END:DAYLIGHT
BEGIN:STANDARD
TZOFFSETFROM:+0100
TZOFFSETTO:+0000
TZNAME:GMT
DTSTART:20221030T010000
END:STANDARD
BEGIN:DAYLIGHT
TZOFFSETFROM:+0000
TZOFFSETTO:+0100
TZNAME:BST
DTSTART:20230326T010000
END:DAYLIGHT
BEGIN:STANDARD
TZOFFSETFROM:+0100
TZOFFSETTO:+0000
TZNAME:GMT
DTSTART:20231029T010000
END:STANDARD
BEGIN:DAYLIGHT
TZOFFSETFROM:+0000
TZOFFSETTO:+0100
TZNAME:BST
DTSTART:20240331T010000
END:DAYLIGHT
BEGIN:STANDARD
TZOFFSETFROM:+0100
TZOFFSETTO:+0000
TZNAME:GMT
DTSTART:20241027T010000
END:STANDARD
END:VTIMEZONE
BEGIN:VEVENT
DTSTART;TZID=Europe/London:20230101T104500
DTEND;TZID=Europe/London:20230101T120000
DTSTAMP:20260422T010215
CREATED:20221207T124114Z
LAST-MODIFIED:20221207T124114Z
UID:7332-1672569900-1672574400@stmarysashwell.org.uk
SUMMARY:New Year's Day Service
DESCRIPTION:
URL:https://stmarysashwell.org.uk/event/new-years-day-service/
LOCATION:St Marys Ashwell\, Mill Street\, Ashwell\, SG7 5LY\, United Kingdom
CATEGORIES:Services
END:VEVENT
BEGIN:VEVENT
DTSTART;TZID=Europe/London:20221225T104500
DTEND;TZID=Europe/London:20221225T120000
DTSTAMP:20260422T010215
CREATED:20221207T124017Z
LAST-MODIFIED:20221207T124017Z
UID:7330-1671965100-1671969600@stmarysashwell.org.uk
SUMMARY:Christmas All Age Communion
DESCRIPTION:
URL:https://stmarysashwell.org.uk/event/christmas-all-age-communion/
LOCATION:St Marys Ashwell\, Mill Street\, Ashwell\, SG7 5LY\, United Kingdom
CATEGORIES:Services
END:VEVENT
BEGIN:VEVENT
DTSTART;TZID=Europe/London:20221225T091500
DTEND;TZID=Europe/London:20221225T103000
DTSTAMP:20260422T010215
CREATED:20221207T123919Z
LAST-MODIFIED:20221207T123919Z
UID:7328-1671959700-1671964200@stmarysashwell.org.uk
SUMMARY:Christmas Family Communion
DESCRIPTION:
URL:https://stmarysashwell.org.uk/event/christmas-family-communion/
LOCATION:St Nicholas’\, Hinxworth\, 6 New Inn Road\, Hinxworth\, SG7 5HG\, United Kingdom
CATEGORIES:Services
END:VEVENT
BEGIN:VEVENT
DTSTART;TZID=Europe/London:20221224T233000
DTEND;TZID=Europe/London:20221225T010000
DTSTAMP:20260422T010215
CREATED:20221207T123813Z
LAST-MODIFIED:20221207T123813Z
UID:7326-1671924600-1671930000@stmarysashwell.org.uk
SUMMARY:Midnight Mass
DESCRIPTION:
URL:https://stmarysashwell.org.uk/event/midnight-mass-2/
LOCATION:St Marys Ashwell\, Mill Street\, Ashwell\, SG7 5LY\, United Kingdom
CATEGORIES:Services
END:VEVENT
BEGIN:VEVENT
DTSTART;TZID=Europe/London:20221224T233000
DTEND;TZID=Europe/London:20221225T010000
DTSTAMP:20260422T010215
CREATED:20221207T123715Z
LAST-MODIFIED:20221207T124431Z
UID:7324-1671924600-1671930000@stmarysashwell.org.uk
SUMMARY:Midnight Mass
DESCRIPTION:
URL:https://stmarysashwell.org.uk/event/midnight-mass/
LOCATION:St Marys Ashwell\, Mill Street\, Ashwell\, SG7 5LY\, United Kingdom
CATEGORIES:Services
END:VEVENT
BEGIN:VEVENT
DTSTART;TZID=Europe/London:20221224T153000
DTEND;TZID=Europe/London:20221224T170000
DTSTAMP:20260422T010215
CREATED:20221207T123532Z
LAST-MODIFIED:20221207T123532Z
UID:7322-1671895800-1671901200@stmarysashwell.org.uk
SUMMARY:Crib Service
DESCRIPTION:
URL:https://stmarysashwell.org.uk/event/crib-service/
LOCATION:St Marys Ashwell\, Mill Street\, Ashwell\, SG7 5LY\, United Kingdom
CATEGORIES:Services
END:VEVENT
BEGIN:VEVENT
DTSTART;TZID=Europe/London:20221218T180000
DTEND;TZID=Europe/London:20221218T193000
DTSTAMP:20260422T010215
CREATED:20221207T122700Z
LAST-MODIFIED:20221207T122737Z
UID:7318-1671386400-1671391800@stmarysashwell.org.uk
SUMMARY:Carol Service
DESCRIPTION:
URL:https://stmarysashwell.org.uk/event/carol-service/
LOCATION:St Marys Ashwell\, Mill Street\, Ashwell\, SG7 5LY\, United Kingdom
CATEGORIES:Services
END:VEVENT
BEGIN:VEVENT
DTSTART;TZID=Europe/London:20221211T170000
DTEND;TZID=Europe/London:20221211T183000
DTSTAMP:20260422T010215
CREATED:20221207T123008Z
LAST-MODIFIED:20221207T123113Z
UID:7320-1670778000-1670783400@stmarysashwell.org.uk
SUMMARY:Carol Service
DESCRIPTION:
URL:https://stmarysashwell.org.uk/event/carol-service-2/
LOCATION:St Nicholas’\, Hinxworth\, 6 New Inn Road\, Hinxworth\, SG7 5HG\, United Kingdom
CATEGORIES:Services
END:VEVENT
BEGIN:VEVENT
DTSTART;TZID=Europe/London:20210929T193000
DTEND;TZID=Europe/London:20210929T213000
DTSTAMP:20260422T010215
CREATED:20210909T093241Z
LAST-MODIFIED:20210929T154342Z
UID:5194-1632943800-1632951000@stmarysashwell.org.uk
SUMMARY:Collation\, induction and installation service
DESCRIPTION:Join us tonight to welcome Chris\, our new Rector.  The service starts in church at 7.30pm\, and is also available on Zoom at https://tinyurl.com/stmarys-zoom (or the Zoom icon from the website homepage)
URL:https://stmarysashwell.org.uk/event/new-vicar/
CATEGORIES:Services
END:VEVENT
END:VCALENDAR