BEGIN:VCALENDAR
VERSION:2.0
PRODID:-//St Mary&#039;s Ashwell - ECPv6.15.20//NONSGML v1.0//EN
CALSCALE:GREGORIAN
METHOD:PUBLISH
X-ORIGINAL-URL:https://stmarysashwell.org.uk
X-WR-CALDESC:Events for St Mary&#039;s Ashwell
REFRESH-INTERVAL;VALUE=DURATION:PT1H
X-Robots-Tag:noindex
X-PUBLISHED-TTL:PT1H
BEGIN:VTIMEZONE
TZID:Europe/London
BEGIN:DAYLIGHT
TZOFFSETFROM:+0000
TZOFFSETTO:+0100
TZNAME:BST
DTSTART:20250330T010000
END:DAYLIGHT
BEGIN:STANDARD
TZOFFSETFROM:+0100
TZOFFSETTO:+0000
TZNAME:GMT
DTSTART:20251026T010000
END:STANDARD
BEGIN:DAYLIGHT
TZOFFSETFROM:+0000
TZOFFSETTO:+0100
TZNAME:BST
DTSTART:20260329T010000
END:DAYLIGHT
BEGIN:STANDARD
TZOFFSETFROM:+0100
TZOFFSETTO:+0000
TZNAME:GMT
DTSTART:20261025T010000
END:STANDARD
BEGIN:DAYLIGHT
TZOFFSETFROM:+0000
TZOFFSETTO:+0100
TZNAME:BST
DTSTART:20270328T010000
END:DAYLIGHT
BEGIN:STANDARD
TZOFFSETFROM:+0100
TZOFFSETTO:+0000
TZNAME:GMT
DTSTART:20271031T010000
END:STANDARD
END:VTIMEZONE
BEGIN:VEVENT
DTSTART;TZID=Europe/London:20260316T063000
DTEND;TZID=Europe/London:20260316T080000
DTSTAMP:20260420T202431
CREATED:20260316T172258Z
LAST-MODIFIED:20260316T172258Z
UID:8517-1773642600-1773648000@stmarysashwell.org.uk
SUMMARY:Easter Day Dawn Service
DESCRIPTION:Join us for our Dawn Service at 6:30am\, followed by breakfast.
URL:https://stmarysashwell.org.uk/event/easter-day-dawn-service/
LOCATION:St Marys Ashwell\, Mill Street\, Ashwell\, SG7 5LY\, United Kingdom
END:VEVENT
BEGIN:VEVENT
DTSTART;TZID=Europe/London:20260321T093000
DTEND;TZID=Europe/London:20260321T130000
DTSTAMP:20260420T202431
CREATED:20260304T105238Z
LAST-MODIFIED:20260304T105238Z
UID:8499-1774085400-1774098000@stmarysashwell.org.uk
SUMMARY:Ashwell's Famous Flea Market
DESCRIPTION:Our annual flea market takes place on Saturday 21st March from 9:30am until 1pm. Free Entry. \nPlease bring donations to St Mary’s church on Thurs 19th and Fri 20th March.
URL:https://stmarysashwell.org.uk/event/ashwells-famous-flea-market-2/
LOCATION:St Marys Ashwell\, Mill Street\, Ashwell\, SG7 5LY\, United Kingdom
END:VEVENT
BEGIN:VEVENT
DTSTART;TZID=Europe/London:20260329T104500
DTEND;TZID=Europe/London:20260329T120000
DTSTAMP:20260420T202431
CREATED:20260316T171030Z
LAST-MODIFIED:20260316T171030Z
UID:8507-1774781100-1774785600@stmarysashwell.org.uk
SUMMARY:All Age Communion with Passion Play
DESCRIPTION:During our service the events of that first Holy week will be acted out for us in what promises to be a thought provoking message
URL:https://stmarysashwell.org.uk/event/all-age-communion-with-passion-play-2/
LOCATION:St Marys Ashwell\, Mill Street\, Ashwell\, SG7 5LY\, United Kingdom
END:VEVENT
END:VCALENDAR